BEGIN:VCALENDAR
VERSION:2.0
PRODID:-//Concerts Under The Stars - ECPv6.15.20//NONSGML v1.0//EN
CALSCALE:GREGORIAN
METHOD:PUBLISH
X-WR-CALNAME:Concerts Under The Stars
X-ORIGINAL-URL:https://seeyouunderthestars.com
X-WR-CALDESC:Events for Concerts Under The Stars
REFRESH-INTERVAL;VALUE=DURATION:PT1H
X-Robots-Tag:noindex
X-PUBLISHED-TTL:PT1H
BEGIN:VTIMEZONE
TZID:America/Los_Angeles
BEGIN:DAYLIGHT
TZOFFSETFROM:-0800
TZOFFSETTO:-0700
TZNAME:PDT
DTSTART:20240310T100000
END:DAYLIGHT
BEGIN:STANDARD
TZOFFSETFROM:-0700
TZOFFSETTO:-0800
TZNAME:PST
DTSTART:20241103T090000
END:STANDARD
BEGIN:DAYLIGHT
TZOFFSETFROM:-0800
TZOFFSETTO:-0700
TZNAME:PDT
DTSTART:20250309T100000
END:DAYLIGHT
BEGIN:STANDARD
TZOFFSETFROM:-0700
TZOFFSETTO:-0800
TZNAME:PST
DTSTART:20251102T090000
END:STANDARD
BEGIN:DAYLIGHT
TZOFFSETFROM:-0800
TZOFFSETTO:-0700
TZNAME:PDT
DTSTART:20260308T100000
END:DAYLIGHT
BEGIN:STANDARD
TZOFFSETFROM:-0700
TZOFFSETTO:-0800
TZNAME:PST
DTSTART:20261101T090000
END:STANDARD
END:VTIMEZONE
BEGIN:VEVENT
DTSTART;TZID=America/Los_Angeles:20251210T180000
DTEND;TZID=America/Los_Angeles:20251210T190500
DTSTAMP:20260420T103545
CREATED:20250915T192133Z
LAST-MODIFIED:20250915T192616Z
UID:1226-1765389600-1765393500@seeyouunderthestars.com
SUMMARY:A Very Sinatra Christmas Special at the Olympic Rooftop Pavilion
DESCRIPTION:🎄 Experience the joy of the Holiday Season at The Olympic Rooftop Pavilion by listening to one of Seattle’s best jazz vocalists singing a catalog of Holiday tunes “Old Blue Eyes” loved to sing. This is an evening not to be missed! \n👉 Use the seating chart below to see zones. Attendees will be assigned to their seating arrangements upon arrival. \nHighlights\n🌆 Breathtaking views of Seattle from the Olympic Rooftop Pavilion\n🎁 A Sinatra Christmas Special\n🍸 Enjoy a classic cocktail under the stars and melt away “those little town blues”\n🍽️ Full bar available for purchase \nGeneral Info\n📅 Dates and times: choose directly in the ticket selector\, the concert is available at 6:00 p.m. and 8:30 p.m.\n⏳ Duration: 65 minutes (doors open 60 minutes prior to the start time and late entry is not permitted)\n📍 Location: The Olympic Rooftop Pavilion at Stoneburner\, Seattle\, WA\n👤 Age requirement: 21+ with valid ID\n♿ Accessibility: the venue is accessible with elevators\n☂️ In the case of rain\, the show will continue! The venue has a rain contingency.\n❓ Please note: Stoneburner has a one-drink minimum policy. See your ticket for more details. We also ask you to dress according to the weather! \nTentative Program \n\nFly Me To The Moon\nWhite Christmas\nI’ll Be Home For Christmas\nWhat A Wonderful World\nHave Yourself A Merry Little Christmas\nI’ve Got the World on a String\nLet It Snow\nThe Christmas Song\nMele Kalikimaka\, New York New York\n& More!\n\n\nDescription\nConcerts Under the Stars will be hosting “A Very Sinatra Christmas Special” this season! Come to the beautiful Olympic Rooftop Pavilion and let us put you in the holiday spirit as we bring a set list Frank loved to sing during the Holiday Season!
URL:https://seeyouunderthestars.com/event/a-very-sinatra-christmas-special-at-the-olympic-rooftop-pavilion/
LOCATION:Olympic Rooftop Pavilion – Seattle\, 5214 Ballard Ave NW\, Seattle\, WA\, 98107\, United States
ATTACH;FMTTYPE=image/jpeg:https://seeyouunderthestars.com/wp-content/uploads/2025/09/1e2c6758-5ff0-11ef-8629-8603b291f304-30BSLq.jpg
END:VEVENT
END:VCALENDAR